Package: ROCpAI Version: 1.8.0 Command: /home/biocbuild/bbs-3.15-bioc/R/bin/R CMD build --keep-empty-dirs --no-resave-data ROCpAI StartedAt: 2022-10-18 17:53:16 -0400 (Tue, 18 Oct 2022) EndedAt: 2022-10-18 17:53:44 -0400 (Tue, 18 Oct 2022) EllapsedTime: 28.0 seconds RetCode: 0 Status: OK PackageFile: ROCpAI_1.8.0.tar.gz PackageFileSize: 382.1 KiB