Package: RNAsense Version: 1.10.0 Command: F:\biocbuild\bbs-3.15-bioc\R\bin\R.exe CMD check --no-multiarch --install=check:RNAsense.install-out.txt --library=F:\biocbuild\bbs-3.15-bioc\R\library --no-vignettes --timings RNAsense_1.10.0.tar.gz StartedAt: 2022-10-19 03:38:00 -0400 (Wed, 19 Oct 2022) EndedAt: 2022-10-19 03:52:06 -0400 (Wed, 19 Oct 2022) EllapsedTime: 845.7 seconds RetCode: 0 Status: WARNINGS CheckDir: RNAsense.Rcheck Warnings: 1