Package: RNAAgeCalc Version: 1.7.0 Command: D:\biocbuild\bbs-3.15-bioc\R\bin\R.exe CMD INSTALL RNAAgeCalc StartedAt: 2022-03-17 16:14:09 -0400 (Thu, 17 Mar 2022) EndedAt: 2022-03-17 16:16:07 -0400 (Thu, 17 Mar 2022) EllapsedTime: 118.0 seconds RetCode: 0 Status: OK