Package: RGSEA Version: 1.29.0 Command: rm -rf RGSEA.buildbin-libdir && mkdir RGSEA.buildbin-libdir && D:\biocbuild\bbs-3.15-bioc\R\bin\R.exe CMD INSTALL --build --library=RGSEA.buildbin-libdir RGSEA_1.29.0.tar.gz StartedAt: 2022-03-17 21:33:37 -0400 (Thu, 17 Mar 2022) EndedAt: 2022-03-17 21:34:55 -0400 (Thu, 17 Mar 2022) EllapsedTime: 77.7 seconds RetCode: 0 Status: OK PackageFile: RGSEA_1.29.0.zip PackageFileSize: 1.757 MiB