Package: Qtlizer Version: 1.9.2 Command: chmod a+r Qtlizer -R && D:\biocbuild\bbs-3.15-bioc\R\bin\R.exe CMD build --keep-empty-dirs --no-resave-data Qtlizer StartedAt: 2022-03-17 17:47:16 -0400 (Thu, 17 Mar 2022) EndedAt: 2022-03-17 17:47:31 -0400 (Thu, 17 Mar 2022) EllapsedTime: 14.8 seconds RetCode: 0 Status: OK PackageFile: Qtlizer_1.9.2.tar.gz PackageFileSize: 223.1 KiB