Package: Pviz Version: 1.29.0 Command: D:\biocbuild\bbs-3.15-bioc\R\bin\R.exe CMD check --no-multiarch --install=check:Pviz.install-out.txt --library=D:\biocbuild\bbs-3.15-bioc\R\library --no-vignettes --timings Pviz_1.29.0.tar.gz StartedAt: 2022-03-17 19:57:22 -0400 (Thu, 17 Mar 2022) EndedAt: 2022-03-17 20:01:29 -0400 (Thu, 17 Mar 2022) EllapsedTime: 247.7 seconds RetCode: 0 Status: WARNINGS CheckDir: Pviz.Rcheck Warnings: 2