Package: ProteomicsAnnotationHubData Version: 1.26.0 Command: chmod a+r ProteomicsAnnotationHubData -R && F:\biocbuild\bbs-3.15-bioc\R\bin\R.exe CMD build --keep-empty-dirs --no-resave-data ProteomicsAnnotationHubData StartedAt: 2022-10-18 20:23:16 -0400 (Tue, 18 Oct 2022) EndedAt: 2022-10-18 20:24:41 -0400 (Tue, 18 Oct 2022) EllapsedTime: 84.9 seconds RetCode: 1 Status: ERROR PackageFile: None PackageFileSize: NA