Package: PoTRA Version: 1.12.0 Command: /home/biocbuild/bbs-3.15-bioc/R/bin/R CMD INSTALL PoTRA StartedAt: 2022-10-18 15:19:21 -0400 (Tue, 18 Oct 2022) EndedAt: 2022-10-18 15:19:38 -0400 (Tue, 18 Oct 2022) EllapsedTime: 16.6 seconds RetCode: 0 Status: OK