Package: PoTRA Version: 1.12.0 Command: /home/biocbuild/bbs-3.15-bioc/R/bin/R CMD check --install=check:PoTRA.install-out.txt --library=/home/biocbuild/bbs-3.15-bioc/R/library --no-vignettes --timings PoTRA_1.12.0.tar.gz StartedAt: 2022-05-09 20:51:32 -0400 (Mon, 09 May 2022) EndedAt: 2022-05-09 20:53:01 -0400 (Mon, 09 May 2022) EllapsedTime: 88.8 seconds RetCode: 0 Status: OK CheckDir: PoTRA.Rcheck Warnings: 0