Package: PathNet Version: 1.36.0 Command: rm -rf PathNet.buildbin-libdir && mkdir PathNet.buildbin-libdir && /Users/biocbuild/BBS/utils/build-universal.sh PathNet_1.36.0.tar.gz /Library/Frameworks/R.framework/Resources/bin/R PathNet.buildbin-libdir StartedAt: 2022-10-19 10:52:29 -0400 (Wed, 19 Oct 2022) EndedAt: 2022-10-19 10:52:33 -0400 (Wed, 19 Oct 2022) EllapsedTime: 4.5 seconds RetCode: 0 Status: OK PackageFile: PathNet_1.36.0.tgz PackageFileSize: 321 KiB