Package: Path2PPI Version: 1.26.0 Command: chmod a+r Path2PPI -R && F:\biocbuild\bbs-3.15-bioc\R\bin\R.exe CMD build --keep-empty-dirs --no-resave-data Path2PPI StartedAt: 2022-10-18 20:05:14 -0400 (Tue, 18 Oct 2022) EndedAt: 2022-10-18 20:05:47 -0400 (Tue, 18 Oct 2022) EllapsedTime: 32.8 seconds RetCode: 0 Status: OK PackageFile: Path2PPI_1.26.0.tar.gz PackageFileSize: 1.243 MiB