Package: Path2PPI Version: 1.26.0 Command: /Library/Frameworks/R.framework/Resources/bin/R CMD check --install=check:Path2PPI.install-out.txt --library=/Library/Frameworks/R.framework/Resources/library --no-vignettes --timings Path2PPI_1.26.0.tar.gz StartedAt: 2022-10-19 05:56:59 -0400 (Wed, 19 Oct 2022) EndedAt: 2022-10-19 05:58:54 -0400 (Wed, 19 Oct 2022) EllapsedTime: 115.2 seconds RetCode: 0 Status: OK CheckDir: Path2PPI.Rcheck Warnings: 0