Package: PWMEnrich Version: 4.32.0 Command: F:\biocbuild\bbs-3.15-bioc\R\bin\R.exe CMD check --no-multiarch --install=check:PWMEnrich.install-out.txt --library=F:\biocbuild\bbs-3.15-bioc\R\library --no-vignettes --timings PWMEnrich_4.32.0.tar.gz StartedAt: 2022-10-19 03:07:12 -0400 (Wed, 19 Oct 2022) EndedAt: 2022-10-19 03:09:14 -0400 (Wed, 19 Oct 2022) EllapsedTime: 121.8 seconds RetCode: 0 Status: OK CheckDir: PWMEnrich.Rcheck Warnings: 0