Package: PWMEnrich Version: 4.32.0 Command: /Library/Frameworks/R.framework/Resources/bin/R CMD check --install=check:PWMEnrich.install-out.txt --library=/Library/Frameworks/R.framework/Resources/library --no-vignettes --timings PWMEnrich_4.32.0.tar.gz StartedAt: 2022-10-19 06:32:53 -0400 (Wed, 19 Oct 2022) EndedAt: 2022-10-19 06:35:59 -0400 (Wed, 19 Oct 2022) EllapsedTime: 186.6 seconds RetCode: 0 Status: OK CheckDir: PWMEnrich.Rcheck Warnings: 0