Package: PLPE Version: 1.56.0 Command: chmod a+r PLPE -R && F:\biocbuild\bbs-3.15-bioc\R\bin\R.exe CMD build --keep-empty-dirs --no-resave-data PLPE StartedAt: 2022-10-18 20:17:02 -0400 (Tue, 18 Oct 2022) EndedAt: 2022-10-18 20:17:18 -0400 (Tue, 18 Oct 2022) EllapsedTime: 16.4 seconds RetCode: 0 Status: OK PackageFile: PLPE_1.56.0.tar.gz PackageFileSize: 156.1 KiB