Package: PERFect Version: 1.10.0 Command: /Library/Frameworks/R.framework/Resources/bin/R CMD check --install=check:PERFect.install-out.txt --library=/Library/Frameworks/R.framework/Resources/library --no-vignettes --timings PERFect_1.10.0.tar.gz StartedAt: 2022-10-19 06:02:58 -0400 (Wed, 19 Oct 2022) EndedAt: 2022-10-19 06:07:16 -0400 (Wed, 19 Oct 2022) EllapsedTime: 258.0 seconds RetCode: 0 Status: OK CheckDir: PERFect.Rcheck Warnings: 0