Package: Organism.dplyr Version: 1.23.1 Command: D:\biocbuild\bbs-3.15-bioc\R\bin\R.exe CMD check --no-multiarch --install=check:Organism.dplyr.install-out.txt --library=D:\biocbuild\bbs-3.15-bioc\R\library --no-vignettes --timings Organism.dplyr_1.23.1.tar.gz StartedAt: 2022-03-17 19:47:08 -0400 (Thu, 17 Mar 2022) EndedAt: 2022-03-17 19:53:55 -0400 (Thu, 17 Mar 2022) EllapsedTime: 406.6 seconds RetCode: 0 Status: OK CheckDir: Organism.dplyr.Rcheck Warnings: 0