Package: Organism.dplyr Version: 1.23.1 Command: rm -rf Organism.dplyr.buildbin-libdir && mkdir Organism.dplyr.buildbin-libdir && D:\biocbuild\bbs-3.15-bioc\R\bin\R.exe CMD INSTALL --build --library=Organism.dplyr.buildbin-libdir Organism.dplyr_1.23.1.tar.gz StartedAt: 2022-03-17 21:26:43 -0400 (Thu, 17 Mar 2022) EndedAt: 2022-03-17 21:27:44 -0400 (Thu, 17 Mar 2022) EllapsedTime: 61.4 seconds RetCode: 0 Status: OK PackageFile: Organism.dplyr_1.23.1.zip PackageFileSize: 837 KiB