Package: OpenStats Version: 1.8.0 Command: /Library/Frameworks/R.framework/Resources/bin/R CMD INSTALL OpenStats StartedAt: 2022-10-18 16:06:14 -0400 (Tue, 18 Oct 2022) EndedAt: 2022-10-18 16:06:43 -0400 (Tue, 18 Oct 2022) EllapsedTime: 28.9 seconds RetCode: 0 Status: OK