Package: OncoScore Version: 1.23.0 Command: rm -rf OncoScore.buildbin-libdir && mkdir OncoScore.buildbin-libdir && D:\biocbuild\bbs-3.15-bioc\R\bin\R.exe CMD INSTALL --build --library=OncoScore.buildbin-libdir OncoScore_1.23.0.tar.gz StartedAt: 2022-03-17 21:26:20 -0400 (Thu, 17 Mar 2022) EndedAt: 2022-03-17 21:27:27 -0400 (Thu, 17 Mar 2022) EllapsedTime: 66.8 seconds RetCode: 0 Status: OK PackageFile: OncoScore_1.23.0.zip PackageFileSize: 283.6 KiB