Package: OncoScore Version: 1.24.0 Command: rm -rf OncoScore.buildbin-libdir && mkdir OncoScore.buildbin-libdir && F:\biocbuild\bbs-3.15-bioc\R\bin\R.exe CMD INSTALL --build --library=OncoScore.buildbin-libdir OncoScore_1.24.0.tar.gz StartedAt: 2022-10-19 06:17:21 -0400 (Wed, 19 Oct 2022) EndedAt: 2022-10-19 06:17:42 -0400 (Wed, 19 Oct 2022) EllapsedTime: 21.2 seconds RetCode: 0 Status: OK PackageFile: OncoScore_1.24.0.zip PackageFileSize: 266.5 KiB