Package: OncoScore Version: 1.24.0 Command: /Library/Frameworks/R.framework/Resources/bin/R CMD check --install=check:OncoScore.install-out.txt --library=/Library/Frameworks/R.framework/Resources/library --no-vignettes --timings OncoScore_1.24.0.tar.gz StartedAt: 2022-10-19 05:42:52 -0400 (Wed, 19 Oct 2022) EndedAt: 2022-10-19 05:46:09 -0400 (Wed, 19 Oct 2022) EllapsedTime: 196.8 seconds RetCode: 0 Status: OK CheckDir: OncoScore.Rcheck Warnings: 0