Package: OncoScore Version: 1.24.0 Command: rm -rf OncoScore.buildbin-libdir && mkdir OncoScore.buildbin-libdir && /Users/biocbuild/BBS/utils/build-universal.sh OncoScore_1.24.0.tar.gz /Library/Frameworks/R.framework/Resources/bin/R OncoScore.buildbin-libdir StartedAt: 2022-10-19 10:50:24 -0400 (Wed, 19 Oct 2022) EndedAt: 2022-10-19 10:50:59 -0400 (Wed, 19 Oct 2022) EllapsedTime: 34.4 seconds RetCode: 0 Status: OK PackageFile: OncoScore_1.24.0.tgz PackageFileSize: 250.5 KiB