Package: OmicsLonDA Version: 1.12.0 Command: rm -rf OmicsLonDA.buildbin-libdir && mkdir OmicsLonDA.buildbin-libdir && F:\biocbuild\bbs-3.15-bioc\R\bin\R.exe CMD INSTALL --build --library=OmicsLonDA.buildbin-libdir OmicsLonDA_1.12.0.tar.gz StartedAt: 2022-10-19 06:17:02 -0400 (Wed, 19 Oct 2022) EndedAt: 2022-10-19 06:17:46 -0400 (Wed, 19 Oct 2022) EllapsedTime: 43.2 seconds RetCode: 0 Status: OK PackageFile: OmicsLonDA_1.12.0.zip PackageFileSize: 4.895 MiB