Package: OVESEG Version: 1.12.0 Command: chmod a+r OVESEG -R && F:\biocbuild\bbs-3.15-bioc\R\bin\R.exe CMD build --keep-empty-dirs --no-resave-data OVESEG StartedAt: 2022-10-18 20:01:06 -0400 (Tue, 18 Oct 2022) EndedAt: 2022-10-18 20:07:28 -0400 (Tue, 18 Oct 2022) EllapsedTime: 382.0 seconds RetCode: 0 Status: OK PackageFile: OVESEG_1.12.0.tar.gz PackageFileSize: 765.9 KiB