Package: OVESEG Version: 1.12.0 Command: rm -rf OVESEG.buildbin-libdir && mkdir OVESEG.buildbin-libdir && F:\biocbuild\bbs-3.15-bioc\R\bin\R.exe CMD INSTALL --build --library=OVESEG.buildbin-libdir OVESEG_1.12.0.tar.gz StartedAt: 2022-10-19 06:18:15 -0400 (Wed, 19 Oct 2022) EndedAt: 2022-10-19 06:18:51 -0400 (Wed, 19 Oct 2022) EllapsedTime: 35.9 seconds RetCode: 0 Status: OK PackageFile: OVESEG_1.12.0.zip PackageFileSize: 1.139 MiB