git_url: https://git.bioconductor.org/packages/OSAT git_branch: RELEASE_3_15 git_last_commit: 135ebde git_last_commit_date: 2022-04-26 11:11:25 -0400 (Tue, 26 Apr 2022) Package: OSAT Version: 1.44.0 Maintainer: Li Yan MaintainerEmail: li.yan at roswellpark.org