git_url: https://git.bioconductor.org/packages/OLINgui git_branch: RELEASE_3_15 git_last_commit: d3f94bd git_last_commit_date: 2022-04-26 10:56:23 -0400 (Tue, 26 Apr 2022) Package: OLINgui Version: 1.70.0 Maintainer: Matthias Futschik MaintainerEmail: mfutschik at ualg.pt