Package: OCplus Version: 1.70.0 Command: rm -rf OCplus.buildbin-libdir && mkdir OCplus.buildbin-libdir && F:\biocbuild\bbs-3.15-bioc\R\bin\R.exe CMD INSTALL --build --library=OCplus.buildbin-libdir OCplus_1.70.0.tar.gz StartedAt: 2022-10-19 06:16:40 -0400 (Wed, 19 Oct 2022) EndedAt: 2022-10-19 06:16:59 -0400 (Wed, 19 Oct 2022) EllapsedTime: 19.0 seconds RetCode: 0 Status: OK PackageFile: OCplus_1.70.0.zip PackageFileSize: 9.72 MiB