Package: NTW Version: 1.46.0 Command: /Library/Frameworks/R.framework/Resources/bin/R CMD INSTALL NTW StartedAt: 2022-10-18 15:18:23 -0400 (Tue, 18 Oct 2022) EndedAt: 2022-10-18 15:18:56 -0400 (Tue, 18 Oct 2022) EllapsedTime: 33.3 seconds RetCode: 0 Status: OK