Package: NTW Version: 1.46.0 Command: rm -rf NTW.buildbin-libdir && mkdir NTW.buildbin-libdir && /Users/biocbuild/BBS/utils/build-universal.sh NTW_1.46.0.tar.gz /Library/Frameworks/R.framework/Resources/bin/R NTW.buildbin-libdir StartedAt: 2022-10-19 10:49:14 -0400 (Wed, 19 Oct 2022) EndedAt: 2022-10-19 10:49:19 -0400 (Wed, 19 Oct 2022) EllapsedTime: 5.1 seconds RetCode: 0 Status: OK PackageFile: NTW_1.46.0.tgz PackageFileSize: 605.7 KiB