Package: Mulcom Version: 1.45.0 Command: rm -rf Mulcom.buildbin-libdir && mkdir Mulcom.buildbin-libdir && D:\biocbuild\bbs-3.15-bioc\R\bin\R.exe CMD INSTALL --build --library=Mulcom.buildbin-libdir Mulcom_1.45.0.tar.gz StartedAt: 2022-03-17 21:23:33 -0400 (Thu, 17 Mar 2022) EndedAt: 2022-03-17 21:25:10 -0400 (Thu, 17 Mar 2022) EllapsedTime: 97.0 seconds RetCode: 0 Status: OK PackageFile: Mulcom_1.45.0.zip PackageFileSize: 1.496 MiB