Package: MinimumDistance Version: 1.40.0 Command: /home/biocbuild/bbs-3.15-bioc/R/bin/R CMD build --keep-empty-dirs --no-resave-data MinimumDistance StartedAt: 2022-10-18 17:09:20 -0400 (Tue, 18 Oct 2022) EndedAt: 2022-10-18 17:10:28 -0400 (Tue, 18 Oct 2022) EllapsedTime: 67.9 seconds RetCode: 0 Status: OK PackageFile: MinimumDistance_1.40.0.tar.gz PackageFileSize: 2.392 MiB