Package: MethylSeekR Version: 1.35.0 Command: D:\biocbuild\bbs-3.15-bioc\R\bin\R.exe CMD INSTALL MethylSeekR StartedAt: 2022-03-17 16:06:54 -0400 (Thu, 17 Mar 2022) EndedAt: 2022-03-17 16:08:21 -0400 (Thu, 17 Mar 2022) EllapsedTime: 87.3 seconds RetCode: 0 Status: OK