Package: MethylSeekR Version: 1.35.0 Command: chmod a+r MethylSeekR -R && D:\biocbuild\bbs-3.15-bioc\R\bin\R.exe CMD build --keep-empty-dirs --no-resave-data MethylSeekR StartedAt: 2022-03-17 17:20:21 -0400 (Thu, 17 Mar 2022) EndedAt: 2022-03-17 17:21:56 -0400 (Thu, 17 Mar 2022) EllapsedTime: 94.2 seconds RetCode: 0 Status: OK PackageFile: MethylSeekR_1.35.0.tar.gz PackageFileSize: 1.62 MiB