Package: MethylSeekR Version: 1.36.0 Command: rm -rf MethylSeekR.buildbin-libdir && mkdir MethylSeekR.buildbin-libdir && /Users/biocbuild/BBS/utils/build-universal.sh MethylSeekR_1.36.0.tar.gz /Library/Frameworks/R.framework/Resources/bin/R MethylSeekR.buildbin-libdir StartedAt: 2022-10-19 10:40:29 -0400 (Wed, 19 Oct 2022) EndedAt: 2022-10-19 10:41:30 -0400 (Wed, 19 Oct 2022) EllapsedTime: 61.1 seconds RetCode: 0 Status: OK PackageFile: MethylSeekR_1.36.0.tgz PackageFileSize: 1.652 MiB