Package: MetaboSignal Version: 1.26.2 Command: /Library/Frameworks/R.framework/Resources/bin/R CMD build --keep-empty-dirs --no-resave-data MetaboSignal StartedAt: 2022-10-18 19:33:54 -0400 (Tue, 18 Oct 2022) EndedAt: 2022-10-18 19:36:03 -0400 (Tue, 18 Oct 2022) EllapsedTime: 129.2 seconds RetCode: 0 Status: OK PackageFile: MetaboSignal_1.26.2.tar.gz PackageFileSize: 2.089 MiB