############################################################################## ############################################################################## ### ### Running command: ### ### rm -rf Metab.buildbin-libdir && mkdir Metab.buildbin-libdir && D:\biocbuild\bbs-3.15-bioc\R\bin\R.exe CMD INSTALL --build --library=Metab.buildbin-libdir Metab_1.29.0.tar.gz ### ############################################################################## ############################################################################## * installing *source* package 'Metab' ... ** using staged installation ** R ** data ** inst ** byte-compile and prepare package for lazy loading ** help *** installing help indices converting help for package 'Metab' finding HTML links ... done MetReport html MetReportNames html Metab-package html buildLib html exampleAMDISReport html exampleBiomass html exampleHtest html exampleIonLib html exampleMSLfile html exampleMetReport html htest html normalizeByBiomass html normalizeByInternalStandard html removeFalsePositives html ** building package indices ** installing vignettes ** testing if installed package can be loaded from temporary location ** testing if installed package can be loaded from final location ** testing if installed package keeps a record of temporary installation path * MD5 sums packaged installation of 'Metab' as Metab_1.29.0.zip * DONE (Metab)