Package: MetaVolcanoR Version: 1.10.0 Command: /Library/Frameworks/R.framework/Resources/bin/R CMD build --keep-empty-dirs --no-resave-data MetaVolcanoR StartedAt: 2022-10-18 19:35:54 -0400 (Tue, 18 Oct 2022) EndedAt: 2022-10-18 19:40:17 -0400 (Tue, 18 Oct 2022) EllapsedTime: 263.3 seconds RetCode: 0 Status: OK PackageFile: MetaVolcanoR_1.10.0.tar.gz PackageFileSize: 1.97 MiB