git_url: https://git.bioconductor.org/packages/MetaVolcanoR git_branch: RELEASE_3_15 git_last_commit: e19ff15 git_last_commit_date: 2022-04-26 11:57:08 -0400 (Tue, 26 Apr 2022) Package: MetaVolcanoR Version: 1.10.0 Maintainer: Cesar Prada MaintainerEmail: cesar.prada.medina at gmail.com