############################################################################## ############################################################################## ### ### Running command: ### ### D:\biocbuild\bbs-3.15-bioc\R\bin\R.exe CMD INSTALL MetaCyto ### ############################################################################## ############################################################################## * installing to library 'D:/biocbuild/bbs-3.15-bioc/R/library' * installing *source* package 'MetaCyto' ... ** using staged installation ** R ** inst ** byte-compile and prepare package for lazy loading ** help *** installing help indices converting help for package 'MetaCyto' finding HTML links ... done autoCluster.batch html clusterStats html collectData html densityPlot html fcsInfoParser html filterLabels html findCutoff html flowHC html flowSOM.MC html glmAnalysis html labelCluster html labelSummary html markerFinder html metaAnalysis html nameUpdator html panelSummary html plotGA html preprocessing html preprocessing.batch html sampleInfoParser html searchCluster html searchCluster.batch html set2Frame html ** building package indices ** installing vignettes ** testing if installed package can be loaded from temporary location ** testing if installed package can be loaded from final location ** testing if installed package keeps a record of temporary installation path * DONE (MetaCyto) Making 'packages.html' ... done