Package: MetaCyto Version: 1.18.0 Command: rm -rf MetaCyto.buildbin-libdir && mkdir MetaCyto.buildbin-libdir && F:\biocbuild\bbs-3.15-bioc\R\bin\R.exe CMD INSTALL --build --library=MetaCyto.buildbin-libdir MetaCyto_1.18.0.tar.gz StartedAt: 2022-10-19 06:08:20 -0400 (Wed, 19 Oct 2022) EndedAt: 2022-10-19 06:08:48 -0400 (Wed, 19 Oct 2022) EllapsedTime: 28.0 seconds RetCode: 0 Status: OK PackageFile: MetaCyto_1.18.0.zip PackageFileSize: 1.031 MiB