Package: MetaCyto Version: 1.18.0 Command: /home/biocbuild/bbs-3.15-bioc/R/bin/R CMD check --install=check:MetaCyto.install-out.txt --library=/home/biocbuild/bbs-3.15-bioc/R/library --no-vignettes --timings MetaCyto_1.18.0.tar.gz StartedAt: 2022-10-18 20:29:14 -0400 (Tue, 18 Oct 2022) EndedAt: 2022-10-18 20:35:18 -0400 (Tue, 18 Oct 2022) EllapsedTime: 364.8 seconds RetCode: 0 Status: OK CheckDir: MetaCyto.Rcheck Warnings: 0