Package: MesKit Version: 1.6.0 Command: /Library/Frameworks/R.framework/Resources/bin/R CMD check --install=check:MesKit.install-out.txt --library=/Library/Frameworks/R.framework/Resources/library --no-vignettes --timings MesKit_1.6.0.tar.gz StartedAt: 2022-10-19 04:22:38 -0400 (Wed, 19 Oct 2022) EndedAt: 2022-10-19 04:43:25 -0400 (Wed, 19 Oct 2022) EllapsedTime: 1247.0 seconds RetCode: 0 Status: WARNINGS CheckDir: MesKit.Rcheck Warnings: 1