Package: Mergeomics Version: 1.23.0 Command: rm -rf Mergeomics.buildbin-libdir && mkdir Mergeomics.buildbin-libdir && D:\biocbuild\bbs-3.15-bioc\R\bin\R.exe CMD INSTALL --build --library=Mergeomics.buildbin-libdir Mergeomics_1.23.0.tar.gz StartedAt: 2022-03-17 21:19:35 -0400 (Thu, 17 Mar 2022) EndedAt: 2022-03-17 21:20:42 -0400 (Thu, 17 Mar 2022) EllapsedTime: 67.6 seconds RetCode: 0 Status: OK PackageFile: Mergeomics_1.23.0.zip PackageFileSize: 3.503 MiB