Package: MVCClass Version: 1.70.0 Command: chmod a+r MVCClass -R && F:\biocbuild\bbs-3.15-bioc\R\bin\R.exe CMD build --keep-empty-dirs --no-resave-data MVCClass StartedAt: 2022-10-18 19:47:35 -0400 (Tue, 18 Oct 2022) EndedAt: 2022-10-18 19:48:00 -0400 (Tue, 18 Oct 2022) EllapsedTime: 24.6 seconds RetCode: 0 Status: OK PackageFile: MVCClass_1.70.0.tar.gz PackageFileSize: 1.032 MiB