Package: MSstatsLiP Version: 1.2.1 Command: /Library/Frameworks/R.framework/Resources/bin/R CMD build --keep-empty-dirs --no-resave-data MSstatsLiP StartedAt: 2022-10-18 19:58:55 -0400 (Tue, 18 Oct 2022) EndedAt: 2022-10-18 20:00:36 -0400 (Tue, 18 Oct 2022) EllapsedTime: 101.5 seconds RetCode: 0 Status: OK PackageFile: MSstatsLiP_1.2.1.tar.gz PackageFileSize: 1.717 MiB