Package: MMUPHin Version: 1.10.3 Command: /home/biocbuild/bbs-3.15-bioc/R/bin/R CMD build --keep-empty-dirs --no-resave-data MMUPHin StartedAt: 2022-10-18 17:11:05 -0400 (Tue, 18 Oct 2022) EndedAt: 2022-10-18 17:11:59 -0400 (Tue, 18 Oct 2022) EllapsedTime: 53.9 seconds RetCode: 0 Status: OK PackageFile: MMUPHin_1.10.3.tar.gz PackageFileSize: 3.489 MiB