Package: MIGSA Version: 1.20.0 Command: rm -rf MIGSA.buildbin-libdir && mkdir MIGSA.buildbin-libdir && F:\biocbuild\bbs-3.15-bioc\R\bin\R.exe CMD INSTALL --build --library=MIGSA.buildbin-libdir MIGSA_1.20.0.tar.gz StartedAt: 2022-07-08 07:38:28 -0400 (Fri, 08 Jul 2022) EndedAt: 2022-07-08 07:39:21 -0400 (Fri, 08 Jul 2022) EllapsedTime: 53.4 seconds RetCode: 0 Status: OK PackageFile: MIGSA_1.20.0.zip PackageFileSize: 3.036 MiB