Package: MEDME Version: 1.56.0 Command: F:\biocbuild\bbs-3.15-bioc\R\bin\R.exe CMD check --no-multiarch --install=check:MEDME.install-out.txt --library=F:\biocbuild\bbs-3.15-bioc\R\library --no-vignettes --timings MEDME_1.56.0.tar.gz StartedAt: 2022-10-19 01:37:37 -0400 (Wed, 19 Oct 2022) EndedAt: 2022-10-19 01:39:57 -0400 (Wed, 19 Oct 2022) EllapsedTime: 139.6 seconds RetCode: 0 Status: WARNINGS CheckDir: MEDME.Rcheck Warnings: 1